Workbook

Sheet IS
B2: STARBUCKS CORPORATION CONSOLIDATED STATEMENTS OF EARNINGS
B3: (in millions, except per share data)
C6: Sep 29, | D6: Sep 30, | E6: Oct 1,
B7: Fiscal Year Ended | C7: 2019 | D7: 2018 | E7: 2017
B8: Net revenues:
B9: Company-operated stores | C9: 21544.4 | D9: 19690.3 | E9: 17650.7
B10: Licensed stores | C10: 2875 | D10: 2652.2 | E10: 2355
B11: Other | C11: 2089.2 | D11: 2377 | E11: 2381.1
B12: Total net revenues | C12: 26508.6 | D12: 24719.5 | E12: 22386.8
B13: Cost of sales | C13: 8526.9 | D13: 7930.7 | E13: 7065.8
B14: Store operating expenses | C14: 10493.6 | D14: 9472.2 | E14: 8486.4
B15: Other operating expenses | C15: 371 | D15: 554.9 | E15: 518
B16: Depreciation and amortization expenses | C16: 1377.3 | D16: 1247 | E16: 1011.4
B17: General and administrative expenses | C17: 1824.1 | D17: 1708.2 | E17: 1408.4
B18: Restructuring and impairments | C18: 135.8 | D18: 224.4 | E18: 153.5
B19: Total operating expenses | C19: 22728.7 | D19: 21137.4 | E19: 18643.5
B20: Income from equity investees | C20: 298 | D20: 301.2 | E20: 391.4
B21: Operating income | C21: 4077.9 | D21: 3883.3 | E21: 4134.7
B22: Gain resulting from acquisition of joint venture | C22: — | D22: 1376.4 | E22: —
B23: Net gain resulting from divestiture of certain operations | C23: 622.8 | D23: 499.2 | E23: 93.5
B24: Interest income and other, net | C24: 96.5 | D24: 191.4 | E24: 181.8
B25: Interest expense | C25: -331 | D25: -170.3 | E25: -92.5
B26: Earnings before income taxes | C26: 4466.2 | D26: 5780 | E26: 4317.5
B27: Income tax expense | C27: 871.6 | D27: 1262 | E27: 1432.6
B28: Net earnings including noncontrolling interests | C28: 3594.6 | D28: 4518 | E28: 2884.9
B29: Net earnings/(loss) attributable to noncontrolling interests | C29: -4.6 | D29: -0.3 | E29: 0.2
B30: Net earnings attributable to Starbucks | C30: 3599.2 | D30: 4518.3 | E30: 2884.7
B31: Earnings per share — basic | C31: 2.95 | D31: 3.27 | E31: 1.99
B32: Earnings per share — diluted | C32: 2.92 | D32: 3.24 | E32: 1.97
B33: Weighted average shares outstanding:
B34: Basic | C34: 1221.2 | D34: 1382.7 | E34: 1449.5
B35: Diluted | C35: 1233.2 | D35: 1394.6 | E35: 1461.5

Sheet BS
B3: STARBUCKS CORPORATION CONSOLIDATED BALANCE SHEETS
B4: (in millions, except per share data)
C7: Sep 29, | D7: Sep 30,
C8: 2019 | D8: 2018
B9: ASSETS
B10: Current assets:
B11: Cash and cash equivalents | C11: 2686.6 | D11: 8756.3
B12: Short-term investments | C12: 70.5 | D12: 181.5
B13: Accounts receivable, net | C13: 879.2 | D13: 693.1
B14: Inventories | C14: 1529.4 | D14: 1400.5
B15: Prepaid expenses and other current assets | C15: 488.2 | D15: 1462.8
B16: Total current assets | C16: 5653.9 | D16: 12494.2
B17: Long-term investments | C17: 220 | D17: 267.7
B18: Equity investments | C18: 396 | D18: 334.7
B19: Property, plant and equipment, net | C19: 6431.7 | D19: 5929.1
B20: Deferred income taxes, net | C20: 1765.8 | D20: 134.7
B21: Other long-term assets | C21: 479.6 | D21: 412.2
B22: Other intangible assets | C22: 781.8 | D22: 1042.2
... B24: TOTAL ASSETS | C24: 19219.6 | D24: 24156.4
B25: LIABILITIES AND SHAREHOLDERS' EQUITY/(DEFICIT)
B26: Current liabilities:
B27: Accounts payable | C27: 1189.7 | D27: 1179.3
B28: Accrued liabilities | C28: 1753.7 | D28: 1752.5
B29: Accrued payroll and benefits | C29: 664.6 | D29: 656.8
B30: Income taxes payable | C30: 1291.7 | D30: 102.8
B31: Stored value card liability and current portion of deferred revenue | C31: 1269 | D31: 1642.9
B32: Current portion of long-term debt | C32: — | D32: 349.9
B33: Total current liabilities | C33: 6168.7 | D33: 5684.2
B34: Long-term debt | C34: 11167 | D34: 9090.2
B35: Deferred revenue | C35: 6744.4 | D35: 6775.7
B36: Other long-term liabilities | C36: 1370.5 | D36: 1430.5
B37: Total liabilities | C37: 25450.6 | D37: 22980.6
B38: Shareholders’ equity/(deficit):
B39: Common stock ($0.001 par value) — authorized, 2,400.0 shares; issued and outstanding, 1,184.6 and 1,309.1 shares, respectively
C40: 1.2 | D40: 1.3
B41: Additional paid-in capital | C41: 41.1 | D41: 41.1
B42: Retained earnings/(deficit) | C42: -5771.2 | D42: 1457.4
B43: Accumulated other comprehensive loss | C43: -503.3 | D43: -330.3
B44: Total shareholders’ equity/(deficit) | C44: -6232.2 | D44: 1169.5
B45: Noncontrolling interests | C45: 1.2 | D45: 6.3
...

Sheet Ratio analysis
B4: Ratio analysis | E4: 2019 | G4: 2018 | I4: 2017
B6: Gross profit margin= | C6: Gross profit | D6: x 100 | E6: 17981.7 | F6: 67.833458 | G6: 16788.8 | H6: 67.917231 | I6: 15321 | J6: 68.437651
C7: Net sales | E7: 26508.6 | G7: 24719.5 | I7: 22386.8
B9: opearting profit margin= | C9: operating profit | D9: x 100 | E9: 4077.9 | F9: 15.38331 | G9: 3883.3 | H9: 15.70946 | I9: 4134.7 | J9: 18.469366
C10: Net sales | E10: 26508.6 | G10: 24719.5 | I10: 22386.8
B12: Return on assets= | C12: Net income | D12: x 100 | E12: 3594.6 | F12: 18.702783 | G12: 4518 | H12: 18.703118 | I12: 2884.9 | J12: 20.082001
C13: Total assets | E13: 19219.6 | G13: 24156.4 | I13: 14365.6
B15: Return on equity= | C15: Net income | D15: x 100 | E15: 3594.6 | F15: -57.677867 | G15: 4518 | H15: 386.31894 | I15: 2884.9 | J15: 52.963099
C16: Shareholders investment | E16: -6232.2 | G16: 1169.5 | I16: 5447
B18: Return on invested capital | C18: Net operating profit after tax | D18: x 100 | E18: 3594.6 | F18: 27.542928 | G18: 4518 | H18: 24.458375 | I18: 2884.9 | J18: 28.436949
C19: invested capital | E19: 13050.9 | G19: 18472.2 | I19: 10144.9
B21: Current ratio | C21: Current assets | E21: 5653.9 | F21: 0.91654644 | G21: 12494.2 | H21: 2.1980578 | I21: 5283.4 | J21: 1.2517829
C22: Current liabilities | E22: 6168.7 | G22: 5684.2 | I22: 4220.7

Sheet Quartelry IS
B2: STARBUCKS CORPORATION CONSOLIDATED STATEMENTS OF EARNINGS
B3: (unaudited, in millions, except per share data)
C5: Quarter Ended
C6: Mar 29, | D6: Mar 31,
C7: 2020 | D7: 2019
B8: Net revenues: | G8: Ratio analysis | J8: Quarter 1 2020 | L8: Quarter 1 2019
B9: Company-operated stores | C9: 4766 | D9: 5159
B10: Licensed stores | C10: 689.8 | D10: 678.2 | G10: Gross profit margin= | H10: Gross profit | I10: x 100 | J10: =C12-C13 -> 3998 | K10: =J10/J11*100 -> 66.681121 | L10: =D12-D13 -> 4293.9 | M10: =L10/L11*100 -> 68.093373
B11: Other | C11: 539.9 | D11: 468.7 | H11: Net sales | J11: =C12 -> 5995.7 | L11: =D12 -> 6305.9
B12: Total net revenues | C12: 5995.7 | D12: 6305.9
B13: Cost of sales | C13: 1997.7 | D13: 2012 | G13: opearting profit margin= | H13: operating profit | I13: x 100 | J13: =C21 -> 487.4 | K13: =J13/J14*100 -> 8.1291592 | L13: =D21 -> 857.7 | M13: =L13/L14*100 -> 13.601548
B14: Store operating expenses | C14: 2721.4 | D14: 2554.1 | H14: Net sales | J14: =J11 -> 5995.7 | L14: =L11 -> 6305.9
B15: Other operating expenses | C15: 95 | D15: 87.1
B16: Depreciation and amortization expenses | C16: 356.3 | D16: 356.2 | G16: Return on assets= | H16: Net income | I16: x 100 | J16: =C27 -> 324.8 | K16: =J16/J17*100 -> 1.1819978 | L16: =D27 -> 658.8 | M16: =L16/L17*100 -> 3.4277508
B17: General and administrative expenses | C17: 406.5 | D17: 458.1 | H17: Total assets | J17: ='Quarterly BS'!C23 -> 27478.9 | L17: ='Quarterly BS'!D23 -> 19219.6
B18: Restructuring and impairments | C18: -0.7 | D18: 43
B19: Total operating expenses | C19: 5576.2 | D19: 5510.5 | G19: Return on equity= | H19: Net income | I19: x 100 | J19: =J16 -> 324.8 | K19: =J19/J20*100 -> -4.3133557 | L19: =L16 -> 658.8 | M19: =L19/L20*100 -> -10.570906
B20: Income from equity investees | C20: 67.9 | D20: 62.3 | H20: Shareholders investment | J20: ='Quarterly BS'!C46 -> -7530.1 | L20: ='Quarterly BS'!D46 -> -6232.2
B21: Operating income | C21: 487.4 | D21: 857.7
B22: Net gain resulting from divestiture of certain operations | C22: — | D22: 21 | G22: Return on invested capital | H22: Net operating profit after tax | I22: x 100 | J22: =J19 -> 324.8 | K22: =J22/J23*100 -> 1.6905132 | L22: =L19 -> 658.8 | M22: =L22/L23*100 -> 5.0479277
B23: Interest income and other, net | C23: 2 | D23: 15.2 | H23: invested capital | J23: ='Quarterly BS'!C49-'Quarterly BS'!C34 -> 19213.1 | L23: ='Quarterly BS'!D49-'Quarterly BS'!D34 -> 13050.9
B24: Interest expense | C24: -99.2 | D24: -73.9
B25: Earnings before income taxes | C25: 390.2 | D25: 820 | G25: Current ratio | H25: Current assets | J25: ='Quarterly BS'!C14 -> 5749.9 | K25: =J25/J26 -> 0.69562535 | L25: ='Quarterly BS'!D14 -> 5653.9 | M25: =L25/L26 -> 0.91654644
B26: Income tax expense | C26: 65.4 | D26: 161.2 | H26: Current liabilities | J26: ='Quarterly BS'!C34 -> 8265.8 | L26: ='Quarterly BS'!D34 -> 6168.7
B27: Net earnings including noncontrolling interests | C27: 324.8 | D27: 658.8
B28: Net earnings/(loss) attributable to noncontrolling interests | C28: -3.6 | D28: -4.4
B29: Net earnings attributable to Starbucks | C29: 328.4 | D29: 663.2
B30: Net earnings per common share - diluted | C30: 0.28 | D30: 0.53
B31: Weighted avg. shares outstanding - diluted | C31: 1180.7 | D31: 1250.7
B32: Cash dividends declared per share | C32: 0.41 | D32: 0.36
B33: Supplemental Ratios:
B34: Store operating expenses as a % of company-operated store revenues | D34: 0.571
B35: Effective tax rate including noncontrolling interests | D35: 0.168

Sheet Quarterly BS
B2: CONSOLIDATED BALANCE SHEETS
B3: (unaudited, in millions, except per share data)
C5: Mar 29, | D5: Sep 29,
C6: 2020 | D6: 2019
B7: ASSETS
B8: Current assets:
B9: Cash and cash equivalents | C9: 2572.3 | D9: 2686.6
B10: Short-term investments | C10: 52.9 | D10: 70.5
B11: Accounts receivable, net | C11: 941 | D11: 879.2
B12: Inventories | C12: 1492.2 | D12: 1529.4
B13: Prepaid expenses and other current assets | C13: 691.5 | D13: 488.2
B14: Total current assets | C14: 5749.9 | D14: 5653.9
B15: Long-term investments | C15: 198.8 | D15: 220
B16: Equity investments | C16: 420.9 | D16: 396
B17: Property, plant and equipment, net | C17: 6387 | D17: 6431.7
B18: Operating lease, right-of-use asset | C18: 8260.8 | D18: —
B19: Deferred income taxes, net | C19: 1709.7 | D19: 1765.8
B20: Other long-term assets | C20: 580.1 | D20: 479.6
B21: Other intangible assets | C21: 678.7 | D21: 781.8
B22: Goodwill | C22: 3493 | D22: 3490.8
B23: TOTAL ASSETS | C23: 27478.9 | D23: 19219.6
B24: LIABILITIES AND SHAREHOLDERS' EQUITY/(DEFICIT)
B25: Current liabilities:
B26: Accounts payable | C26: 997.7 | D26: 1189.7
B27: Accrued liabilities | C27: 1539 | D27: 1753.7
B28: Accrued payroll and benefits | C28: 596.1 | D28: 664.6
B29: Income taxes payable | C29: 86.7 | D29: 1291.7
B30: Current portion of operating lease liability | C30: 1253.5 | D30: —
B31: Store value card liability and current portion of deferred revenue | C31: 1436.3 | D31: 1269
B32: Short-term debt | C32: 1107.1 | D32: —
B33: Current portion of long-term debt | C33: 1249.4 | D33: —
B34: Total current liabilities | C34: 8265.8 | D34: 6168.7
B35: Long-term debt | C35: 11658.7 | D35: 11167
B36: Operating lease liability | C36: 7650.4 | D36: —
B37: Deferred revenue | C37: 6685.5 | D37: 6744.4
B38: Other long-term liabilities | C38: 751.4 | D38: 1370.5
B39: Total liabilities | C39: 35011.8 | D39: 25450.6
B40: Shareholders’ equity/(deficit):
B41: Common stock ($0.001 par value) — authorized, 2,400.0 shares; issued and outstanding, 1,168.1 and 1,184.6 shares, respectively
C42: 1.2 | D42: 1.2
...

Sheet Quarterly Ratios
B4: Ratio analysis | E4: Quarter 1 2020 | G4: Quarter 1 2019
B6: Gross profit margin= | C6: Gross profit | D6: x 100 | E6: 3998 | F6: 66.681121 | G6: 4293.9 | H6: 68.093373
C7: Net sales | E7: 5995.7 | G7: 6305.9
B9: opearting profit margin= | C9: operating profit | D9: x 100 | E9: 487.4 | F9: 8.1291592 | G9: 857.7 | H9: 13.601548
C10: Net sales | E10: 5995.7 | G10: 6305.9
B12: Return on assets= | C12: Net income | D12: x 100 | E12: 324.8 | F12: 1.1819978 | G12: 658.8 | H12: 3.4277508
C13: Total assets | E13: 27478.9 | G13: 19219.6
B15: Return on equity= | C15: Net income | D15: x 100 | E15: 324.8 | F15: -4.3133557 | G15: 658.8 | H15: -10.570906
C16: Shareholders investment | E16: -7530.1 | G16: -6232.2
B18: Return on invested capital= | C18: Net operating profit after tax | D18: x 100 | E18: 324.8 | F18: 1.6905132 | G18: 658.8 | H18: 5.0479277
C19: invested capital | E19: 19213.1 | G19: 13050.9
B21: Current ratio= | C21: Current assets | E21: 5749.9 | F21: 0.69562535 | G21: 5653.9 | H21: 0.91654644
C22: Current liabilities | E22: 8265.8 | G22: 6168.7
